BEGIN:VCALENDAR
VERSION:2.0
CREATED:20260421T162440Z
PRODID:-//Deluxe Corporation/Equisolve Calendar v1.0//EN
METHOD:PUBLISH
BEGIN:VEVENT
UID:7283b39c6fc68c27c5e0b546d3b24ddc
DTSTAMP:20260422T114730Z
DTSTART:20260506T123000Z
DTEND:20260506T133000Z
SUMMARY:Deluxe First Quarter 2026 Earnings Conference Call
DESCRIPTION:Deluxe First Quarter 2026 Earnings Conference Call\nDate: May 6\, 2026 8:30 am EDT\nWebcast: https://event.webcasts.com/starthere.jsp?ei=1760988&tp_key=2486708c15
END:VEVENT
END:VCALENDAR
